Package: SeqSQC Version: 1.29.0 Command: /home/biocbuild/bbs-3.21-bioc/R/bin/R CMD check --install=check:SeqSQC.install-out.txt --library=/home/biocbuild/bbs-3.21-bioc/R/site-library --timings SeqSQC_1.29.0.tar.gz StartedAt: 2025-02-05 02:42:53 -0500 (Wed, 05 Feb 2025) EndedAt: 2025-02-05 02:46:14 -0500 (Wed, 05 Feb 2025) EllapsedTime: 201.3 seconds RetCode: 0 Status: WARNINGS CheckDir: SeqSQC.Rcheck Warnings: 1