Package: SeqSQC Version: 1.29.0 Command: rm -rf SeqSQC.buildbin-libdir && mkdir SeqSQC.buildbin-libdir && E:\biocbuild\bbs-3.21-bioc\R\bin\R.exe CMD INSTALL --build --library=SeqSQC.buildbin-libdir SeqSQC_1.29.0.tar.gz StartedAt: 2025-02-05 08:54:16 -0500 (Wed, 05 Feb 2025) EndedAt: 2025-02-05 08:55:11 -0500 (Wed, 05 Feb 2025) EllapsedTime: 54.6 seconds RetCode: 0 Status: OK PackageFile: SeqSQC_1.29.0.zip PackageFileSize: 4.657 MiB