Package: SeqSQC Version: 1.29.0 Command: chmod a+r SeqSQC -R && E:\biocbuild\bbs-3.21-bioc\R\bin\R.exe CMD build --keep-empty-dirs --no-resave-data SeqSQC StartedAt: 2025-02-04 21:39:25 -0500 (Tue, 04 Feb 2025) EndedAt: 2025-02-04 21:40:46 -0500 (Tue, 04 Feb 2025) EllapsedTime: 81.1 seconds RetCode: 0 Status: OK PackageFile: SeqSQC_1.29.0.tar.gz PackageFileSize: 4.338 MiB