Package: SeqSQC Version: 1.29.0 Command: E:\biocbuild\bbs-3.21-bioc\R\bin\R.exe CMD INSTALL SeqSQC StartedAt: 2025-02-04 16:00:51 -0500 (Tue, 04 Feb 2025) EndedAt: 2025-02-04 16:01:23 -0500 (Tue, 04 Feb 2025) EllapsedTime: 31.4 seconds RetCode: 0 Status: OK