Package: ShortRead Version: 1.65.0 Command: /Library/Frameworks/R.framework/Resources/bin/R CMD check --install=check:ShortRead.install-out.txt --library=/Library/Frameworks/R.framework/Resources/library --no-vignettes --timings ShortRead_1.65.0.tar.gz StartedAt: 2025-02-09 21:21:28 -0500 (Sun, 09 Feb 2025) EndedAt: 2025-02-09 21:23:15 -0500 (Sun, 09 Feb 2025) EllapsedTime: 106.3 seconds RetCode: 0 Status: WARNINGS CheckDir: ShortRead.Rcheck Warnings: 2