Package: ShortRead Version: 1.65.0 Command: /Library/Frameworks/R.framework/Resources/bin/R CMD INSTALL ShortRead StartedAt: 2025-02-09 15:11:54 -0500 (Sun, 09 Feb 2025) EndedAt: 2025-02-09 15:12:15 -0500 (Sun, 09 Feb 2025) EllapsedTime: 20.7 seconds RetCode: 0 Status: OK