Package: ShortRead Version: 1.65.0 Command: /home/biocbuild/R/R/bin/R CMD INSTALL ShortRead StartedAt: 2025-01-29 19:57:58 -0000 (Wed, 29 Jan 2025) EndedAt: 2025-01-29 19:59:06 -0000 (Wed, 29 Jan 2025) EllapsedTime: 68.0 seconds RetCode: 0 Status: OK