Package: ShortRead Version: 1.65.0 Command: /Library/Frameworks/R.framework/Resources/bin/R CMD build --keep-empty-dirs --no-resave-data ShortRead StartedAt: 2025-02-09 18:28:05 -0500 (Sun, 09 Feb 2025) EndedAt: 2025-02-09 18:29:34 -0500 (Sun, 09 Feb 2025) EllapsedTime: 89.3 seconds RetCode: 0 Status: OK PackageFile: ShortRead_1.65.0.tar.gz PackageFileSize: 5.06 MiB