Package: ShortRead Version: 1.65.0 Command: /Library/Frameworks/R.framework/Resources/bin/R CMD INSTALL ShortRead StartedAt: 2025-02-09 15:23:38 -0500 (Sun, 09 Feb 2025) EndedAt: 2025-02-09 15:24:55 -0500 (Sun, 09 Feb 2025) EllapsedTime: 76.9 seconds RetCode: 0 Status: OK