Package: ShortRead Version: 1.65.0 Command: rm -rf ShortRead.buildbin-libdir && mkdir ShortRead.buildbin-libdir && E:\biocbuild\bbs-3.21-bioc\R\bin\R.exe CMD INSTALL --build --library=ShortRead.buildbin-libdir ShortRead_1.65.0.tar.gz StartedAt: 2025-02-10 08:42:55 -0500 (Mon, 10 Feb 2025) EndedAt: 2025-02-10 08:46:19 -0500 (Mon, 10 Feb 2025) EllapsedTime: 204.6 seconds RetCode: 0 Status: OK PackageFile: ShortRead_1.65.0.zip PackageFileSize: 5.593 MiB