Package: ShortRead Version: 1.65.0 Command: chmod a+r ShortRead -R && E:\biocbuild\bbs-3.21-bioc\R\bin\R.exe CMD build --keep-empty-dirs --no-resave-data ShortRead StartedAt: 2025-02-09 21:39:46 -0500 (Sun, 09 Feb 2025) EndedAt: 2025-02-09 21:43:05 -0500 (Sun, 09 Feb 2025) EllapsedTime: 199.6 seconds RetCode: 0 Status: OK PackageFile: ShortRead_1.65.0.tar.gz PackageFileSize: 5.06 MiB