Package: ShortRead Version: 1.65.0 Command: E:\biocbuild\bbs-3.21-bioc\R\bin\R.exe CMD check --no-multiarch --install=check:ShortRead.install-out.txt --library=E:\biocbuild\bbs-3.21-bioc\R\library --no-vignettes --timings ShortRead_1.65.0.tar.gz StartedAt: 2025-02-10 05:26:23 -0500 (Mon, 10 Feb 2025) EndedAt: 2025-02-10 05:36:18 -0500 (Mon, 10 Feb 2025) EllapsedTime: 595.4 seconds RetCode: 0 Status: WARNINGS CheckDir: ShortRead.Rcheck Warnings: 1