Package: SiPSiC Version: 1.7.0 Command: /Library/Frameworks/R.framework/Resources/bin/R CMD build --keep-empty-dirs --no-resave-data SiPSiC StartedAt: 2025-02-04 17:38:48 -0500 (Tue, 04 Feb 2025) EndedAt: 2025-02-04 17:39:01 -0500 (Tue, 04 Feb 2025) EllapsedTime: 13.2 seconds RetCode: 0 Status: OK PackageFile: SiPSiC_1.7.0.tar.gz PackageFileSize: 236.8 KiB