Package: SiPSiC Version: 1.7.0 Command: /home/biocbuild/R/R/bin/R CMD check --install=check:SiPSiC.install-out.txt --library=/home/biocbuild/R/R/site-library --no-vignettes --timings SiPSiC_1.7.0.tar.gz StartedAt: 2025-01-28 15:24:49 -0000 (Tue, 28 Jan 2025) EndedAt: 2025-01-28 15:28:00 -0000 (Tue, 28 Jan 2025) EllapsedTime: 191.2 seconds RetCode: 0 Status: OK CheckDir: SiPSiC.Rcheck Warnings: 0