Package: SiPSiC Version: 1.7.0 Command: /home/biocbuild/R/R/bin/R CMD INSTALL SiPSiC StartedAt: 2025-01-29 19:42:43 -0000 (Wed, 29 Jan 2025) EndedAt: 2025-01-29 19:43:14 -0000 (Wed, 29 Jan 2025) EllapsedTime: 31.1 seconds RetCode: 0 Status: OK