Package: SiPSiC Version: 1.7.0 Command: /Library/Frameworks/R.framework/Resources/bin/R CMD INSTALL SiPSiC StartedAt: 2025-02-09 15:12:16 -0500 (Sun, 09 Feb 2025) EndedAt: 2025-02-09 15:12:47 -0500 (Sun, 09 Feb 2025) EllapsedTime: 31.1 seconds RetCode: 0 Status: OK