Package: SiPSiC Version: 1.7.0 Command: /home/biocbuild/bbs-3.21-bioc/R/bin/R CMD build --keep-empty-dirs --no-resave-data SiPSiC StartedAt: 2025-02-04 19:16:47 -0500 (Tue, 04 Feb 2025) EndedAt: 2025-02-04 19:17:17 -0500 (Tue, 04 Feb 2025) EllapsedTime: 30.1 seconds RetCode: 0 Status: OK PackageFile: SiPSiC_1.7.0.tar.gz PackageFileSize: 236.9 KiB