Package: SiPSiC Version: 1.7.0 Command: rm -rf SiPSiC.buildbin-libdir && mkdir SiPSiC.buildbin-libdir && E:\biocbuild\bbs-3.21-bioc\R\bin\R.exe CMD INSTALL --build --library=SiPSiC.buildbin-libdir SiPSiC_1.7.0.tar.gz StartedAt: 2025-02-05 08:56:41 -0500 (Wed, 05 Feb 2025) EndedAt: 2025-02-05 08:57:09 -0500 (Wed, 05 Feb 2025) EllapsedTime: 27.9 seconds RetCode: 0 Status: OK PackageFile: SiPSiC_1.7.0.zip PackageFileSize: 251.5 KiB