Package: SiPSiC Version: 1.7.0 Command: chmod a+r SiPSiC -R && E:\biocbuild\bbs-3.21-bioc\R\bin\R.exe CMD build --keep-empty-dirs --no-resave-data SiPSiC StartedAt: 2025-02-04 21:45:19 -0500 (Tue, 04 Feb 2025) EndedAt: 2025-02-04 21:45:53 -0500 (Tue, 04 Feb 2025) EllapsedTime: 33.9 seconds RetCode: 0 Status: OK PackageFile: SiPSiC_1.7.0.tar.gz PackageFileSize: 236.9 KiB