Package: SiPSiC Version: 1.7.0 Command: E:\biocbuild\bbs-3.21-bioc\R\bin\R.exe CMD check --no-multiarch --install=check:SiPSiC.install-out.txt --library=E:\biocbuild\bbs-3.21-bioc\R\library --no-vignettes --timings SiPSiC_1.7.0.tar.gz StartedAt: 2025-02-05 05:57:18 -0500 (Wed, 05 Feb 2025) EndedAt: 2025-02-05 06:00:05 -0500 (Wed, 05 Feb 2025) EllapsedTime: 167.4 seconds RetCode: 0 Status: OK CheckDir: SiPSiC.Rcheck Warnings: 0