Package: SigCheck Version: 2.39.0 Command: /home/biocbuild/R/R/bin/R CMD build --keep-empty-dirs --no-resave-data SigCheck StartedAt: 2025-01-29 02:20:55 -0000 (Wed, 29 Jan 2025) EndedAt: 2025-01-29 02:21:38 -0000 (Wed, 29 Jan 2025) EllapsedTime: 43.0 seconds RetCode: 1 Status: ERROR PackageFile: None PackageFileSize: NA