Package: SigCheck Version: 2.39.0 Command: /Library/Frameworks/R.framework/Resources/bin/R CMD build --keep-empty-dirs --no-resave-data SigCheck StartedAt: 2025-02-09 18:28:13 -0500 (Sun, 09 Feb 2025) EndedAt: 2025-02-09 18:28:50 -0500 (Sun, 09 Feb 2025) EllapsedTime: 36.6 seconds RetCode: 1 Status: ERROR PackageFile: None PackageFileSize: NA