Package: SigCheck Version: 2.39.0 Command: /home/biocbuild/bbs-3.21-bioc/R/bin/R CMD INSTALL SigCheck StartedAt: 2025-02-09 15:28:25 -0500 (Sun, 09 Feb 2025) EndedAt: 2025-02-09 15:28:56 -0500 (Sun, 09 Feb 2025) EllapsedTime: 30.6 seconds RetCode: 0 Status: OK