Package: SigFuge Version: 1.45.0 Command: rm -rf SigFuge.buildbin-libdir && mkdir SigFuge.buildbin-libdir && /Users/biocbuild/BBS/utils/build-universal.sh SigFuge_1.45.0.tar.gz /Library/Frameworks/R.framework/Resources/bin/R SigFuge.buildbin-libdir StartedAt: 2025-02-09 22:31:02 -0500 (Sun, 09 Feb 2025) EndedAt: 2025-02-09 22:31:08 -0500 (Sun, 09 Feb 2025) EllapsedTime: 6.1 seconds RetCode: 0 Status: OK PackageFile: SigFuge_1.45.0.tgz PackageFileSize: 1.493 MiB