Package: SigFuge Version: 1.45.0 Command: /Library/Frameworks/R.framework/Resources/bin/R CMD build --keep-empty-dirs --no-resave-data SigFuge StartedAt: 2025-02-12 18:20:30 -0500 (Wed, 12 Feb 2025) EndedAt: 2025-02-12 18:21:28 -0500 (Wed, 12 Feb 2025) EllapsedTime: 58.4 seconds RetCode: 0 Status: OK PackageFile: SigFuge_1.45.0.tar.gz PackageFileSize: 1.458 MiB