Package: SigFuge Version: 1.45.0 Command: /home/biocbuild/bbs-3.21-bioc/R/bin/R CMD INSTALL SigFuge StartedAt: 2025-02-12 15:30:59 -0500 (Wed, 12 Feb 2025) EndedAt: 2025-02-12 15:31:11 -0500 (Wed, 12 Feb 2025) EllapsedTime: 11.8 seconds RetCode: 0 Status: OK