Package: SimBu Version: 1.9.0 Command: /home/biocbuild/R/R/bin/R CMD check --install=check:SimBu.install-out.txt --library=/home/biocbuild/R/R/site-library --no-vignettes --timings SimBu_1.9.0.tar.gz StartedAt: 2025-01-28 15:21:50 -0000 (Tue, 28 Jan 2025) EndedAt: 2025-01-28 15:27:02 -0000 (Tue, 28 Jan 2025) EllapsedTime: 311.4 seconds RetCode: 0 Status: OK CheckDir: SimBu.Rcheck Warnings: 0