Package: SimBu Version: 1.9.0 Command: rm -rf SimBu.buildbin-libdir && mkdir SimBu.buildbin-libdir && /Users/biocbuild/BBS/utils/build-universal.sh SimBu_1.9.0.tar.gz /Library/Frameworks/R.framework/Resources/bin/R SimBu.buildbin-libdir StartedAt: 2025-02-13 00:59:21 -0500 (Thu, 13 Feb 2025) EndedAt: 2025-02-13 00:59:35 -0500 (Thu, 13 Feb 2025) EllapsedTime: 14.0 seconds RetCode: 0 Status: OK PackageFile: SimBu_1.9.0.tgz PackageFileSize: 323.8 KiB