Package: SimBu Version: 1.9.0 Command: /home/biocbuild/bbs-3.21-bioc/R/bin/R CMD build --keep-empty-dirs --no-resave-data SimBu StartedAt: 2025-02-09 19:17:40 -0500 (Sun, 09 Feb 2025) EndedAt: 2025-02-09 19:18:21 -0500 (Sun, 09 Feb 2025) EllapsedTime: 41.1 seconds RetCode: 0 Status: OK PackageFile: SimBu_1.9.0.tar.gz PackageFileSize: 215.7 KiB