Package: SimBu Version: 1.9.0 Command: rm -rf SimBu.buildbin-libdir && mkdir SimBu.buildbin-libdir && E:\biocbuild\bbs-3.21-bioc\R\bin\R.exe CMD INSTALL --build --library=SimBu.buildbin-libdir SimBu_1.9.0.tar.gz StartedAt: 2025-02-10 08:43:43 -0500 (Mon, 10 Feb 2025) EndedAt: 2025-02-10 08:44:02 -0500 (Mon, 10 Feb 2025) EllapsedTime: 19.3 seconds RetCode: 0 Status: OK PackageFile: SimBu_1.9.0.zip PackageFileSize: 230.2 KiB