Package: SimBu Version: 1.9.0 Command: chmod a+r SimBu -R && E:\biocbuild\bbs-3.21-bioc\R\bin\R.exe CMD build --keep-empty-dirs --no-resave-data SimBu StartedAt: 2025-02-12 21:47:24 -0500 (Wed, 12 Feb 2025) EndedAt: 2025-02-12 21:48:48 -0500 (Wed, 12 Feb 2025) EllapsedTime: 84.0 seconds RetCode: 0 Status: OK PackageFile: SimBu_1.9.0.tar.gz PackageFileSize: 114.8 KiB