Package: SimFFPE Version: 1.19.0 Command: /Library/Frameworks/R.framework/Resources/bin/R CMD build --keep-empty-dirs --no-resave-data SimFFPE StartedAt: 2025-02-09 18:29:01 -0500 (Sun, 09 Feb 2025) EndedAt: 2025-02-09 18:30:54 -0500 (Sun, 09 Feb 2025) EllapsedTime: 113.1 seconds RetCode: 0 Status: OK PackageFile: SimFFPE_1.19.0.tar.gz PackageFileSize: 750.3 KiB