Package: SimFFPE Version: 1.19.0 Command: /home/biocbuild/bbs-3.21-bioc/R/bin/R CMD build --keep-empty-dirs --no-resave-data SimFFPE StartedAt: 2025-02-09 19:17:51 -0500 (Sun, 09 Feb 2025) EndedAt: 2025-02-09 19:19:29 -0500 (Sun, 09 Feb 2025) EllapsedTime: 98.1 seconds RetCode: 0 Status: OK PackageFile: SimFFPE_1.19.0.tar.gz PackageFileSize: 750.3 KiB