Package: SimFFPE Version: 1.19.0 Command: /home/biocbuild/bbs-3.21-bioc/R/bin/R CMD INSTALL SimFFPE StartedAt: 2025-02-09 15:15:44 -0500 (Sun, 09 Feb 2025) EndedAt: 2025-02-09 15:15:57 -0500 (Sun, 09 Feb 2025) EllapsedTime: 13.2 seconds RetCode: 0 Status: OK