Package: SimFFPE Version: 1.19.0 Command: chmod a+r SimFFPE -R && E:\biocbuild\bbs-3.21-bioc\R\bin\R.exe CMD build --keep-empty-dirs --no-resave-data SimFFPE StartedAt: 2025-02-09 21:41:40 -0500 (Sun, 09 Feb 2025) EndedAt: 2025-02-09 21:43:28 -0500 (Sun, 09 Feb 2025) EllapsedTime: 108.4 seconds RetCode: 0 Status: OK PackageFile: SimFFPE_1.19.0.tar.gz PackageFileSize: 750 KiB