Package: SimFFPE Version: 1.19.0 Command: E:\biocbuild\bbs-3.21-bioc\R\bin\R.exe CMD check --no-multiarch --install=check:SimFFPE.install-out.txt --library=E:\biocbuild\bbs-3.21-bioc\R\library --no-vignettes --timings SimFFPE_1.19.0.tar.gz StartedAt: 2025-02-10 05:29:22 -0500 (Mon, 10 Feb 2025) EndedAt: 2025-02-10 05:33:49 -0500 (Mon, 10 Feb 2025) EllapsedTime: 267.0 seconds RetCode: 0 Status: OK CheckDir: SimFFPE.Rcheck Warnings: 0