Package: SingleCellExperiment Version: 1.29.1 Command: /home/biocbuild/R/R/bin/R CMD INSTALL SingleCellExperiment StartedAt: 2025-01-29 19:40:51 -0000 (Wed, 29 Jan 2025) EndedAt: 2025-01-29 19:41:27 -0000 (Wed, 29 Jan 2025) EllapsedTime: 36.3 seconds RetCode: 0 Status: OK