Package: SingleCellExperiment Version: 1.29.1 Command: rm -rf SingleCellExperiment.buildbin-libdir && mkdir SingleCellExperiment.buildbin-libdir && /Users/biocbuild/BBS/utils/build-universal.sh SingleCellExperiment_1.29.1.tar.gz /Library/Frameworks/R.framework/Resources/bin/R SingleCellExperiment.buildbin-libdir StartedAt: 2025-02-10 01:17:10 -0500 (Mon, 10 Feb 2025) EndedAt: 2025-02-10 01:17:50 -0500 (Mon, 10 Feb 2025) EllapsedTime: 40.2 seconds RetCode: 0 Status: OK PackageFile: SingleCellExperiment_1.29.1.tgz PackageFileSize: 1.92 MiB