Package: SingleCellExperiment Version: 1.29.1 Command: /Library/Frameworks/R.framework/Resources/bin/R CMD build --keep-empty-dirs --no-resave-data SingleCellExperiment StartedAt: 2025-02-03 18:25:12 -0500 (Mon, 03 Feb 2025) EndedAt: 2025-02-03 18:26:32 -0500 (Mon, 03 Feb 2025) EllapsedTime: 79.9 seconds RetCode: 0 Status: OK PackageFile: SingleCellExperiment_1.29.1.tar.gz PackageFileSize: 962.3 KiB