Package: SingleCellExperiment Version: 1.29.1 Command: /Library/Frameworks/R.framework/Resources/bin/R CMD check --install=check:SingleCellExperiment.install-out.txt --library=/Library/Frameworks/R.framework/Resources/library --no-vignettes --timings SingleCellExperiment_1.29.1.tar.gz StartedAt: 2025-02-09 23:40:22 -0500 (Sun, 09 Feb 2025) EndedAt: 2025-02-09 23:44:23 -0500 (Sun, 09 Feb 2025) EllapsedTime: 240.8 seconds RetCode: 0 Status: OK CheckDir: SingleCellExperiment.Rcheck Warnings: 0