Package: SingleCellExperiment Version: 1.29.1 Command: /Library/Frameworks/R.framework/Resources/bin/R CMD INSTALL SingleCellExperiment StartedAt: 2025-02-03 15:16:03 -0500 (Mon, 03 Feb 2025) EndedAt: 2025-02-03 15:16:42 -0500 (Mon, 03 Feb 2025) EllapsedTime: 38.7 seconds RetCode: 0 Status: OK