Package: SingleCellExperiment Version: 1.29.1 Command: /home/biocbuild/bbs-3.21-bioc/R/bin/R CMD INSTALL SingleCellExperiment StartedAt: 2025-02-03 15:27:07 -0500 (Mon, 03 Feb 2025) EndedAt: 2025-02-03 15:27:31 -0500 (Mon, 03 Feb 2025) EllapsedTime: 24.8 seconds RetCode: 0 Status: OK