Package: SingleCellExperiment Version: 1.29.1 Command: rm -rf SingleCellExperiment.buildbin-libdir && mkdir SingleCellExperiment.buildbin-libdir && E:\biocbuild\bbs-3.21-bioc\R\bin\R.exe CMD INSTALL --build --library=SingleCellExperiment.buildbin-libdir SingleCellExperiment_1.29.1.tar.gz StartedAt: 2025-02-04 08:57:31 -0500 (Tue, 04 Feb 2025) EndedAt: 2025-02-04 09:03:32 -0500 (Tue, 04 Feb 2025) EllapsedTime: 360.7 seconds RetCode: 0 Status: OK PackageFile: SingleCellExperiment_1.29.1.zip PackageFileSize: 1.923 MiB