Package: SingleCellExperiment Version: 1.29.1 Command: chmod a+r SingleCellExperiment -R && E:\biocbuild\bbs-3.21-bioc\R\bin\R.exe CMD build --keep-empty-dirs --no-resave-data SingleCellExperiment StartedAt: 2025-02-03 21:55:06 -0500 (Mon, 03 Feb 2025) EndedAt: 2025-02-03 21:57:39 -0500 (Mon, 03 Feb 2025) EllapsedTime: 153.0 seconds RetCode: 0 Status: OK PackageFile: SingleCellExperiment_1.29.1.tar.gz PackageFileSize: 963.1 KiB