Package: SingleCellExperiment Version: 1.29.1 Command: E:\biocbuild\bbs-3.21-bioc\R\bin\R.exe CMD INSTALL SingleCellExperiment StartedAt: 2025-02-03 16:26:53 -0500 (Mon, 03 Feb 2025) EndedAt: 2025-02-03 16:29:54 -0500 (Mon, 03 Feb 2025) EllapsedTime: 180.6 seconds RetCode: 0 Status: OK