Package: SingleCellSignalR Version: 1.19.0 Command: /Library/Frameworks/R.framework/Resources/bin/R CMD build --keep-empty-dirs --no-resave-data SingleCellSignalR StartedAt: 2025-02-09 18:29:32 -0500 (Sun, 09 Feb 2025) EndedAt: 2025-02-09 18:31:01 -0500 (Sun, 09 Feb 2025) EllapsedTime: 89.1 seconds RetCode: 0 Status: OK PackageFile: SingleCellSignalR_1.19.0.tar.gz PackageFileSize: 4.395 MiB