Package: SingleCellSignalR Version: 1.19.0 Command: /Library/Frameworks/R.framework/Resources/bin/R CMD INSTALL SingleCellSignalR StartedAt: 2025-02-12 15:40:26 -0500 (Wed, 12 Feb 2025) EndedAt: 2025-02-12 15:41:25 -0500 (Wed, 12 Feb 2025) EllapsedTime: 59.2 seconds RetCode: 0 Status: OK