Package: SingleCellSignalR Version: 1.19.0 Command: /home/biocbuild/bbs-3.21-bioc/R/bin/R CMD INSTALL SingleCellSignalR StartedAt: 2025-02-09 15:55:10 -0500 (Sun, 09 Feb 2025) EndedAt: 2025-02-09 15:55:49 -0500 (Sun, 09 Feb 2025) EllapsedTime: 39.3 seconds RetCode: 0 Status: OK