Package: SingleCellSignalR Version: 1.19.0 Command: chmod a+r SingleCellSignalR -R && E:\biocbuild\bbs-3.21-bioc\R\bin\R.exe CMD build --keep-empty-dirs --no-resave-data SingleCellSignalR StartedAt: 2025-02-09 21:43:00 -0500 (Sun, 09 Feb 2025) EndedAt: 2025-02-09 21:45:05 -0500 (Sun, 09 Feb 2025) EllapsedTime: 124.6 seconds RetCode: 0 Status: OK PackageFile: SingleCellSignalR_1.19.0.tar.gz PackageFileSize: 3.979 MiB