Package: SpacePAC Version: 1.45.0 Command: /home/biocbuild/bbs-3.21-bioc/R/bin/R CMD build --keep-empty-dirs --no-resave-data SpacePAC StartedAt: 2025-02-09 19:21:21 -0500 (Sun, 09 Feb 2025) EndedAt: 2025-02-09 19:22:19 -0500 (Sun, 09 Feb 2025) EllapsedTime: 57.0 seconds RetCode: 0 Status: OK PackageFile: SpacePAC_1.45.0.tar.gz PackageFileSize: 1.889 MiB